Workbook

Sheet PROJ GER REC PARTE 01 DE 03
A1: ANEXO V - PROJETO DE GERENCIAMENTO DE RECURSOS
A2: TERMO DE COLABORAÇÃO Nº: | D2: UNIDADE ESCOLAR:
A3: CHAMAMENTO PÚBLICO Nº: | D3: EDITAL Nº:
A4: ORGANIZAÇÃO DA SOCIEDADE CIVIL: | D4: CNPJ:
A6: DEMONSTRATIVO DE APLICAÇÃO DA DESPESA - RESUMO
A7: NATUREZA DA DESPESA | B7: DETALHE DA DESPESA | D7: TOTAL DA DESPESA (ANUAL) | F7: TOTAL POR NATUREZA DA DESPESA
A8: RECURSOS HUMANOS | B8: 13º SALÁRIO | F8: =SUM(D8:E30) -> 0
B9: APRENDIZES
B10: ASSISTÊNCIA MÉDICA E/OU ODONTOLÓGICA
B11: CONTRIBUIÇÃO AO INSS - COTA PATRONAL
B12: CONTRIBUIÇÃO AO PIS
B13: CONTRIBUIÇÕES (SINDICAL, ASSISTENCIAL, CONFEDERATIVA)
B14: CURSOS/TREINAMENTOS
B15: EPI/EPC/UNIFORMES
B16: ESTAGIÁRIOS
B17: FÉRIAS (1/3 FÉRIAS / FÉRIAS)
B18: FGTS
B19: FGTS RESCISÓRIO
B20: INSS
... B30: VERBAS RESCISÓRIAS/AVISO PRÉVIO
A31: GÊNEROS ALIMENTÍCIOS | B31: GÊNEROS ALIMENTÍCIOS | F31: =D31 -> 0
A32: LOCAÇÕES | B32: EQUIPAMENTO DE INFORMÁTICA | F32: =SUM(D32:E37) -> 0
B33: IMÓVEL
B34: LOCAÇÕES DIVERSAS
B35: MÁQUINAS E FERRAMENTAS
B36: RELÓGIO DE PONTO
B37: SISTEMAS DE SOFTWARES
A38: MANUTENÇÃO | B38: EQUIPAMENTO DE INFORMÁTICA | F38: =SUM(D38:E43) -> 0
B39: PREDIAL E IMOBILIÁRIO
B40: VEÍCULOS
B41: ELETROELETRÔNICOS E ELETRODOMÉSTICOS
B42: OUTROS
B43: SEGURO PREDIAL/PATRIMONIAL
A44: MATERIAIS DE CONSUMO | B44: MATERIAL DE HIGIENIZAÇÃO E LIMPEZA | F44: =SUM(D44:E52) -> 0
B45: MATERIAL DIDÁTICO E PEDAGÓGICO
B46: MATERIAL EDUCATIVO E ESPORTIVO
B47: CAMA, MESA E BANHO
B48: COMBUSTÍVEL
B49: MATERIAIS DE COPA E COZINHA
B50: MATERIAL DE EXPEDIENTE/CORREIO/FOTOCÓPIAS
...

Sheet PROJ GER REC PARTE 02 DE 03
A1: ANEXO V - PROJETO DE GERENCIAMENTO DE RECURSOS
A2: TERMO DE COLABORAÇÃO Nº: | J2: UNIDADE ESCOLAR:
A3: CHAMAMENTO PÚBLICO Nº: | J3: EDITAL Nº:
A4: ORGANIZAÇÃO DA SOCIEDADE CIVIL: | J4: CNPJ:
A5: DEMONSTRATIVO DAS DESPESAS
A6: NATUREZA DA DESPESA | B6: DETALHE DA DESPESA | D6: JANEIRO | E6: FEVEREIRO | F6: MARÇO | G6: ABRIL | H6: MAIO | I6: JUNHO | J6: JULHO | K6: AGOSTO | L6: SETEMBRO | M6: OUTUBRO | N6: NOVEMBRO | O6: DEZEMBRO | P6: TOTAL DA DESPESA (ANUAL)
A7: RECURSOS HUMANOS | B7: 13º SALÁRIO | P7: =SUM(D7:O7) -> 0
B8: APRENDIZES | P8: =SUM(D8:O8) -> 0
B9: ASSISTÊNCIA MÉDICA E/OU ODONTOLÓGICA | P9: =SUM(D9:O9) -> 0
B10: CONTRIBUIÇÃO AO INSS - COTA PATRONAL | P10: =SUM(D10:O10) -> 0
B11: CONTRIBUIÇÃO AO PIS | P11: =SUM(D11:O11) -> 0
B12: CONTRIBUIÇÕES (SINDICAL, ASSISTENCIAL, CONFEDERATIVA) | P12: =SUM(D12:O12) -> 0
B13: CURSOS/TREINAMENTO | P13: =SUM(D13:O13) -> 0
B14: EPI/EPC/UNIFORMES | P14: =SUM(D14:O14) -> 0
B15: ESTAGIÁRIOS | P15: =SUM(D15:O15) -> 0
B16: FÉRIAS (1/3 FÉRIAS / FÉRIAS) | P16: =SUM(D16:O16) -> 0
B17: FGTS | P17: =SUM(D17:O17) -> 0
B18: FGTS RESCISÓRIO | P18: =SUM(D18:O18) -> 0
B19: INSS | P19: =SUM(D19:O19) -> 0
... B29: VERBAS RESCISÓRIAS/AVISO PRÉVIO | P29: =SUM(D29:O29) -> 0
A30: GÊNEROS ALIMENTÍCIOS | B30: GÊNEROS ALIMENTÍCIOS | P30: =SUM(D30:O30) -> 0
A31: LOCAÇÕES | B31: EQUIPAMENTO DE INFORMÁTICA | P31: =SUM(D31:O31) -> 0
B32: IMÓVEL | P32: =SUM(D32:O32) -> 0
B33: LOCAÇÕES DIVERSAS | P33: =SUM(D33:O33) -> 0
B34: MÁQUINAS E FERRAMENTAS | P34: =SUM(D34:O34) -> 0
B35: RELÓGIO DE PONTO | P35: =SUM(D35:O35) -> 0
B36: SISTEMA DE SOFTWARES | P36: =SUM(D36:O36) -> 0
A37: MANUTENÇÃO | B37: EQUIPAMENTO DE INFORMÁTICA | P37: =SUM(D37:O37) -> 0
B38: PREDIAL E IMOBILIÁRIO | P38: =SUM(D38:O38) -> 0
B39: VEÍCULOS | P39: =SUM(D39:O39) -> 0
B40: ELETROELETRÔNICOS E ELETRODOMÉSTICOS | P40: =SUM(D40:O40) -> 0
B41: OUTROS | P41: =SUM(D41:O41) -> 0
B42: SEGURO PREDIAL/PATRIMONIAL | P42: =SUM(D42:O42) -> 0
A43: MATERIAIS DE CONSUMO | B43: MATERIAL DE HIGIENIZAÇÃO E LIMPEZA | P43: =SUM(D43:O43) -> 0
B44: MATERIAL DIDÁTICO E PEDAGÓGICO | P44: =SUM(D44:O44) -> 0
B45: MATERIAL EDUCATIVO E ESPORTIVO | P45: =SUM(D45:O45) -> 0
B46: CAMA, MESA E BANHO | P46: =SUM(D46:O46) -> 0
B47: COMBUSTÍVEL | P47: =SUM(D47:O47) -> 0
B48: MATERIAIS DE COPA E COZINHA | P48: =SUM(D48:O48) -> 0
B49: MATERIAL DE EXPEDIENTE/CORREIO/FOTOCÓPIAS | P49: =SUM(D49:O49) -> 0
...

Sheet PROJ GER REC PARTE 03 DE 03
A1: ANEXO V - PROJETO DE GERENCIAMENTO DE RECURSOS
A2: TERMO DE COLABORAÇÃO Nº: | D2: UNIDADE ESCOLAR:
A3: CHAMAMENTO PÚBLICO Nº: | D3: EDITAL Nº:
A4: ORGANIZAÇÃO DA SOCIEDADE CIVIL: | D4: CNPJ:
A6: EXERCÍCIO | B6: Nº DE ALUNOS | C6: VALOR PER CAPITA(ANUAL) | D6: VALOR ANUAL | E6: VALOR MENSAL
A7: 2026 | D7: =+B7*C7 -> 0 | E7: =+D7/12 -> 0
A9: DEMONSTRATIVO DAS RECEITAS
A10: COMPETÊNCIA | B10: VALOR MENSAL REPASSADO PELA SECRETARIA DA EDUCAÇÃO | C10: PREVISÃO DE RENDIMENTOS COM APLICAÇÃO FINANCEIRA | D10: RECURSOS PRÓPRIOS DA OSC | E10: TOTAL
A11: JANEIRO | B11: =$E$7 -> 0 | C11: 0 | D11: 0 | E11: =SUM(B11:D11) -> 0
A12: FEVEREIRO | B12: =$E$7 -> 0 | C12: 0 | D12: 0 | E12: =SUM(B12:D12) -> 0
A13: MARÇO | B13: =$E$7 -> 0 | C13: 0 | D13: 0 | E13: =SUM(B13:D13) -> 0
A14: ABRIL | B14: =$E$7 -> 0 | C14: 0 | D14: 0 | E14: =SUM(B14:D14) -> 0
A15: MAIO | B15: =$E$7 -> 0 | C15: 0 | D15: 0 | E15: =SUM(B15:D15) -> 0
A16: JUNHO | B16: =$E$7 -> 0 | C16: 0 | D16: 0 | E16: =SUM(B16:D16) -> 0
A17: JULHO | B17: =$E$7 -> 0 | C17: 0 | D17: 0 | E17: =SUM(B17:D17) -> 0
A18: AGOSTO | B18: =$E$7 -> 0 | C18: 0 | D18: 0 | E18: =SUM(B18:D18) -> 0
A19: SETEMBRO | B19: =$E$7 -> 0 | C19: 0 | D19: 0 | E19: =SUM(B19:D19) -> 0
A20: OUTUBRO | B20: =$E$7 -> 0 | C20: 0 | D20: 0 | E20: =SUM(B20:D20) -> 0
A21: NOVEMBRO | B21: =$E$7 -> 0 | C21: 0 | D21: 0 | E21: =SUM(B21:D21) -> 0
A22: DEZEMBRO | B22: =$E$7 -> 0 | C22: 0 | D22: 0 | E22: =SUM(B22:D22) -> 0
A23: TOTAL | B23: =SUM(B11:B22) -> 0 | C23: =SUM(C11:C22) -> 0 | D23: =SUM(D11:D22) -> 0 | E23: =SUM(E11:E22) -> 0
A25: COMPETÊNCIA | B25: TOTAL RECEITAS | C25: TOTAL DESPESAS | D25: SALDO | E25: SALDO ACUMULADO
A26: JANEIRO | B26: =E11 -> 0 | C26: ='PROJ GER REC PARTE 02 DE 03'!D$65 -> 0 | D26: =B26-C26 -> 0
A27: FEVEREIRO | B27: =E12 -> 0 | C27: ='PROJ GER REC PARTE 02 DE 03'!E$65 -> 0 | D27: =B27-C27 -> 0 | E27: =D26+D27 -> 0
A28: MARÇO | B28: =E13 -> 0 | C28: ='PROJ GER REC PARTE 02 DE 03'!F$65 -> 0 | D28: =B28-C28 -> 0 | E28: =E27+D28 -> 0
A29: ABRIL | B29: =E14 -> 0 | C29: ='PROJ GER REC PARTE 02 DE 03'!G$65 -> 0 | D29: =B29-C29 -> 0 | E29: =E28+D29 -> 0
A30: MAIO | B30: =E15 -> 0 | C30: ='PROJ GER REC PARTE 02 DE 03'!H$65 -> 0 | D30: =B30-C30 -> 0 | E30: =E29+D30 -> 0
A31: JUNHO | B31: =E16 -> 0 | C31: ='PROJ GER REC PARTE 02 DE 03'!I$65 -> 0 | D31: =B31-C31 -> 0 | E31: =E30+D31 -> 0
A32: JULHO | B32: =E17 -> 0 | C32: ='PROJ GER REC PARTE 02 DE 03'!J$65 -> 0 | D32: =B32-C32 -> 0 | E32: =E31+D32 -> 0
A33: AGOSTO | B33: =E18 -> 0 | C33: ='PROJ GER REC PARTE 02 DE 03'!K$65 -> 0 | D33: =B33-C33 -> 0 | E33: =E32+D33 -> 0
A34: SETEMBRO | B34: =E19 -> 0 | C34: ='PROJ GER REC PARTE 02 DE 03'!L$65 -> 0 | D34: =B34-C34 -> 0 | E34: =E33+D34 -> 0
A35: OUTUBRO | B35: =E20 -> 0 | C35: ='PROJ GER REC PARTE 02 DE 03'!M$65 -> 0 | D35: =B35-C35 -> 0 | E35: =E34+D35 -> 0
A36: NOVEMBRO | B36: =E21 -> 0 | C36: ='PROJ GER REC PARTE 02 DE 03'!N$65 -> 0 | D36: =B36-C36 -> 0 | E36: =E35+D36 -> 0
A37: DEZEMBRO | B37: =E22 -> 0 | C37: ='PROJ GER REC PARTE 02 DE 03'!O$65 -> 0 | D37: =B37-C37 -> 0 | E37: =E36+D37 -> 0
A38: TOTAL | B38: =SUM(B26:B37) -> 0 | C38: =SUM(C26:C37) -> 0 | D38: =B38-C38 -> 0
E40: Indaiatuba, dia, mês, ano.
A41: ______________________________________
A42: NOME E ASSINATURA DO PRESIDENTE

Sheet CARGOS E SALÁRIOS
A1: ANEXO V - PROJETO DE GERENCIAMENTO DE RECURSOS CARGOS E SALÁRIOS
A2: TERMO DE COLABORAÇÃO Nº: | C2: UNIDADE ESCOLAR:
A3: CHAMAMENTO PÚBLICO Nº: | C3: EDITAL Nº:
A4: ORGANIZAÇÃO DA SOCIEDADE CIVIL: | C4: CNPJ:
A6: CARGO | B6: ESCOLARIDADE | C6: CARGA HORÁRIA SEMANAL | D6: SALÁRIO BASE INICIAL DO CARGO
D20: Indaiatuba, dia, mês, ano.
A21: ______________________________________
A22: NOME E ASSINATURA DO PRESIDENTE
